BEGIN:VCALENDAR
PRODID:-//Microsoft Corporation//Outlook 12.0 MIMEDIR//EN
VERSION:2.0
CALSCALE:GREGORIAN
BEGIN:VEVENT
UID: 482becbe-fda0-4a00-9ea1-23204cef27da
SUMMARY:Kokkutulek Kabala Kool 95
DTSTAMP:20181117T170000
DTSTART:20181117T170000
DTEND:20181118T020000
LOCATION:Kabala õppehoone
DESCRIPTION: <p><strong>Link: </strong>https://retla.edu.ee/et/kokkutulek-kabala-kool-95</p><p><strong>Hind: </strong></p>
STATUS:CONFIRMED
SEQUENCE:3
X-ALT-DESC;FMTTYPE=text/html:<p><strong>Link: </strong>https://retla.edu.ee/et/kokkutulek-kabala-kool-95</p><p><strong>Hind: </strong></p>
X-MICROSOFT-CDO-BUSYSTATUS:OOF
X-MICROSOFT-CDO-IMPORTANCE:1
X-MICROSOFT-DISALLOW-COUNTER:FALSE
X-MS-OLK-ALLOWEXTERNCHECK:TRUE
X-MS-OLK-CONFTYPE:0
X-MICROSOFT-CDO-ALLDAYEVENT:
X-MICROSOFT-MSNCALENDAR-ALLDAYEVENT:
END:VEVENT
END:VCALENDAR