BEGIN:VCALENDAR
PRODID:-//Microsoft Corporation//Outlook 12.0 MIMEDIR//EN
VERSION:2.0
CALSCALE:GREGORIAN
BEGIN:VEVENT
UID: 9653ccf4-9185-43fb-8fb9-bec088d2e48b
SUMMARY:Oisu raamatukogus külas Merilin Kirbits kl 10 5.-9.kl
DTSTAMP:20191107T100000
DTSTART:20191107T100000
DTEND:20191107T110000
LOCATION:
DESCRIPTION: <p><strong>Link: </strong>https://retla.edu.ee/et/oisu-raamatukogus-kulas-merilin-kirbits-kl-10-5-9kl</p><p><strong>Hind: </strong></p>
STATUS:CONFIRMED
SEQUENCE:3
X-ALT-DESC;FMTTYPE=text/html:<p><strong>Link: </strong>https://retla.edu.ee/et/oisu-raamatukogus-kulas-merilin-kirbits-kl-10-5-9kl</p><p><strong>Hind: </strong></p>
X-MICROSOFT-CDO-BUSYSTATUS:OOF
X-MICROSOFT-CDO-IMPORTANCE:1
X-MICROSOFT-DISALLOW-COUNTER:FALSE
X-MS-OLK-ALLOWEXTERNCHECK:TRUE
X-MS-OLK-CONFTYPE:0
X-MICROSOFT-CDO-ALLDAYEVENT:
X-MICROSOFT-MSNCALENDAR-ALLDAYEVENT:
END:VEVENT
END:VCALENDAR