BEGIN:VCALENDAR
PRODID:-//Microsoft Corporation//Outlook 12.0 MIMEDIR//EN
VERSION:2.0
CALSCALE:GREGORIAN
BEGIN:VEVENT
UID: 115414d4-c781-42b6-a224-296594905ed9
SUMMARY:Kokkusaamine kooli vilistlase, Reelika Holtsmeieriga (5.-9. klass)
DTSTAMP:20200908T100500
DTSTART:20200908T100500
DTEND:20200908T105000
LOCATION:Oisu õppehoone
DESCRIPTION: <p><strong>Link: </strong>https://retla.edu.ee/et/kokkusaamine-kooli-vilistlase-reelika-holtsmeieriga-5-9-klass</p><p><strong>Hind: </strong></p>
STATUS:CONFIRMED
SEQUENCE:3
X-ALT-DESC;FMTTYPE=text/html:<p><strong>Link: </strong>https://retla.edu.ee/et/kokkusaamine-kooli-vilistlase-reelika-holtsmeieriga-5-9-klass</p><p><strong>Hind: </strong></p>
X-MICROSOFT-CDO-BUSYSTATUS:OOF
X-MICROSOFT-CDO-IMPORTANCE:1
X-MICROSOFT-DISALLOW-COUNTER:FALSE
X-MS-OLK-ALLOWEXTERNCHECK:TRUE
X-MS-OLK-CONFTYPE:0
X-MICROSOFT-CDO-ALLDAYEVENT:
X-MICROSOFT-MSNCALENDAR-ALLDAYEVENT:
END:VEVENT
END:VCALENDAR